BEGIN:VCALENDAR
VERSION:2.0
PRODID:-//Kürbiskernöl aus der Steiermark - ECPv6.15.20//NONSGML v1.0//EN
CALSCALE:GREGORIAN
METHOD:PUBLISH
X-WR-CALNAME:Kürbiskernöl aus der Steiermark
X-ORIGINAL-URL:https://www.kuerbiskernoel.at
X-WR-CALDESC:Veranstaltungen für Kürbiskernöl aus der Steiermark
REFRESH-INTERVAL;VALUE=DURATION:PT1H
X-Robots-Tag:noindex
X-PUBLISHED-TTL:PT1H
BEGIN:VTIMEZONE
TZID:UTC
BEGIN:STANDARD
TZOFFSETFROM:+0000
TZOFFSETTO:+0000
TZNAME:UTC
DTSTART:20160101T000000
END:STANDARD
END:VTIMEZONE
BEGIN:VEVENT
DTSTART;VALUE=DATE:20170302
DTEND;VALUE=DATE:20170306
DTSTAMP:20260420T190903
CREATED:20161208T110427Z
LAST-MODIFIED:20161208T110427Z
UID:2876-1488412800-1488758399@www.kuerbiskernoel.at
SUMMARY:Haus & Garten Arena Nova Wiener Neustadt
DESCRIPTION:
URL:https://www.kuerbiskernoel.at/event/haus-garten-arena-nova-wiener-neustadt/
LOCATION:Arena Nova Wiener Neustadt\, Rudolf Diesel-Straße 30\, Wiener Neustadt\, 2700\, Österreich
END:VEVENT
END:VCALENDAR